BEGIN:VCALENDAR
VERSION:2.0
PRODID:-//Falla Obispo Jaime Pérez - Luis OLiag - ECPv6.15.20//NONSGML v1.0//EN
CALSCALE:GREGORIAN
METHOD:PUBLISH
X-WR-CALNAME:Falla Obispo Jaime Pérez - Luis OLiag
X-ORIGINAL-URL:https://fallaobispo.org
X-WR-CALDESC:Eventos para Falla Obispo Jaime Pérez - Luis OLiag
REFRESH-INTERVAL;VALUE=DURATION:PT1H
X-Robots-Tag:noindex
X-PUBLISHED-TTL:PT1H
BEGIN:VTIMEZONE
TZID:Europe/Madrid
BEGIN:DAYLIGHT
TZOFFSETFROM:+0100
TZOFFSETTO:+0200
TZNAME:CEST
DTSTART:20250330T010000
END:DAYLIGHT
BEGIN:STANDARD
TZOFFSETFROM:+0200
TZOFFSETTO:+0100
TZNAME:CET
DTSTART:20251026T010000
END:STANDARD
BEGIN:DAYLIGHT
TZOFFSETFROM:+0100
TZOFFSETTO:+0200
TZNAME:CEST
DTSTART:20260329T010000
END:DAYLIGHT
BEGIN:STANDARD
TZOFFSETFROM:+0200
TZOFFSETTO:+0100
TZNAME:CET
DTSTART:20261025T010000
END:STANDARD
BEGIN:DAYLIGHT
TZOFFSETFROM:+0100
TZOFFSETTO:+0200
TZNAME:CEST
DTSTART:20270328T010000
END:DAYLIGHT
BEGIN:STANDARD
TZOFFSETFROM:+0200
TZOFFSETTO:+0100
TZNAME:CET
DTSTART:20271031T010000
END:STANDARD
END:VTIMEZONE
BEGIN:VEVENT
DTSTART;TZID=Europe/Madrid:20260424T223000
DTEND;TZID=Europe/Madrid:20260424T223000
DTSTAMP:20260424T125211
CREATED:20260423T133023Z
LAST-MODIFIED:20260423T133049Z
UID:1692-1777069800-1777069800@fallaobispo.org
SUMMARY:Junta General Ordinaria
DESCRIPTION:Orden del día: \n\nLectura y aprobación\, si procede\, del acta anterior.\nInforme de presidencia:\n\nSan Juan (falla).\nInforme fechas festividades Yecla y Alicante.\nAdecuación y limpieza casal mes de mayo.\nHorarios y ruidos.\n\n\nDelegaciones.\nRuegos y preguntas.
URL:https://fallaobispo.org/event/junta-general-ordinaria/
LOCATION:Casal\, Luis Oliag\, 30\, Valencia\, Valencia\, 46006\, Spain
CATEGORIES:Juntas
END:VEVENT
END:VCALENDAR